BEGIN:VCALENDAR
PRODID:-//Microsoft Corporation//Outlook 16.0 MIMEDIR//EN
VERSION:2.0
METHOD:REQUEST
X-MS-OLK-FORCEINSPECTOROPEN:TRUE
BEGIN:VTIMEZONE
TZID:Eastern Standard Time
BEGIN:STANDARD
DTSTART:16011104T020000
RRULE:FREQ=YEARLY;BYDAY=1SU;BYMONTH=11
TZOFFSETFROM:-0400
TZOFFSETTO:-0500
END:STANDARD
BEGIN:DAYLIGHT
DTSTART:16010311T020000
RRULE:FREQ=YEARLY;BYDAY=2SU;BYMONTH=3
TZOFFSETFROM:-0500
TZOFFSETTO:-0400
END:DAYLIGHT
END:VTIMEZONE
BEGIN:VEVENT
ATTENDEE;CN="Edin Sabanovic";RSVP=TRUE:mailto:esabanovic@changinghomelessne
	ss.org
ATTENDEE;CN="Benjamin Robertson";RSVP=TRUE:mailto:brobertson@changinghomele
	ssness.org
ATTENDEE;CN="Michael Holbrook";RSVP=TRUE:mailto:mholbrook@changinghomelessn
	ess.org
ATTENDEE;CN="Aniya Waters";RSVP=TRUE:mailto:awaters@changinghomelessness.or
	g
ATTENDEE;CN="System Administration";ROLE=OPT-PARTICIPANT;RSVP=TRUE:mailto:h
	mis@changinghomelessness.org
CLASS:PUBLIC
CREATED:20250421T134118Z
DESCRIPTION: \n________________________________\n\nFrom: Edin Sabanovic <es
	abanovic@changinghomelessness.org>\nSent: Thursday\, August 24\, 2023 1:20
	:09 PM (UTC-05:00) Eastern Time (US & Canada)\nTo: Charles Temple <ctemple
	@changinghomelessness.org>\; Benjamin Robertson <brobertson@changinghomele
	ssness.org>\nSubject: HMIS Office Hours\nWhen: Occurs every month on the f
	irst Thursday of the month from 2:30 PM to 3:30 PM effective 9/7/2023.\nWh
	ere: Microsoft Teams Meeting\n\n\n\n\n\n__________________________________
	______________________________________________ \nMicrosoft Teams meeting \
	nJoin on your computer\, mobile app or room device \nClick here to join th
	e meeting <https://teams.microsoft.com/l/meetup-join/19%3ameeting_ZjlmZjM5
	NWItZTM3YS00NGQwLWI1MDMtMTRiYzQzYWE0YjVh%40thread.v2/0?context=%7b%22Tid%2
	2%3a%22ee5c5581-11a2-494e-a578-98942407cfdc%22%2c%22Oid%22%3a%22f14b6edb-5
	d94-4bb1-b4f2-513aeb46cdca%22%7d>  \nMeeting ID: 273 107 355 037 \nPasscod
	e: jPTevf \nDownload Teams <https://www.microsoft.com/en-us/microsoft-team
	s/download-app>  | Join on the web <https://www.microsoft.com/microsoft-te
	ams/join-a-meeting> \nLearn More <https://aka.ms/JoinTeamsMeeting>  | Meet
	ing options <https://teams.microsoft.com/meetingOptions/?organizerId=f14b6
	edb-5d94-4bb1-b4f2-513aeb46cdca&tenantId=ee5c5581-11a2-494e-a578-98942407c
	fdc&threadId=19_meeting_ZjlmZjM5NWItZTM3YS00NGQwLWI1MDMtMTRiYzQzYWE0YjVh@t
	hread.v2&messageId=0&language=en-US>  \n__________________________________
	______________________________________________ \n
DTEND;TZID="Eastern Standard Time":20250501T153000
DTSTAMP:20230824T172009Z
DTSTART;TZID="Eastern Standard Time":20250501T143000
LAST-MODIFIED:20250421T134118Z
LOCATION:Microsoft Teams Meeting
ORGANIZER;CN="Edin Sabanovic":mailto:esabanovic@changinghomelessness.org
PRIORITY:5
RECURRENCE-ID;TZID="Eastern Standard Time":20250501T143000
SEQUENCE:0
SUMMARY:HMIS Office Hours
TRANSP:OPAQUE
UID:040000008200E00074C5B7101A82E0080000000044AAF33AAFD6D901000000000000000
	010000000F86CE7332AC4F542B4589017A1E731F1
X-ALT-DESC;FMTTYPE=text/html:<html><head>\n\n</head>\n<body>\n<strong>\n<di
	v><font face="Tahoma" color="#000000" size="2">&nbsp\;</font></div>\n</str
	ong>\n<hr tabindex="-1" style="display:inline-block\; width:98%">\n<font f
	ace="Tahoma" size="2"><b>From:</b> Edin Sabanovic &lt\;esabanovic@changing
	homelessness.org&gt\;<br>\n<b>Sent:</b> Thursday\, August 24\, 2023 1:20:0
	9 PM (UTC-05:00) Eastern Time (US &amp\; Canada)<br>\n<b>To:</b> Charles T
	emple &lt\;ctemple@changinghomelessness.org&gt\;\; Benjamin Robertson &lt\
	;brobertson@changinghomelessness.org&gt\;<br>\n<b>Subject:</b> HMIS Office
	 Hours<br>\n<b>When:</b> Occurs every month on the first Thursday of the m
	onth from 2:30 PM to 3:30 PM effective 9/7/2023.<br>\n<b>Where:</b> Micros
	oft Teams Meeting<br>\n</font><br>\n<div></div>\n<div>\n<div><br>\n<br>\n<
	br>\n<div style="width:100%"><span style="white-space:nowrap\; color:#5F5F
	5F\; opacity:.36">________________________________________________________
	________________________</span>\n</div>\n<div class="me-email-text" lang="
	en-US" style="color:#252424\; font-family:'Segoe UI'\,'Helvetica Neue'\,He
	lvetica\,Arial\,sans-serif">\n<div style="margin-top:24px\; margin-bottom:
	20px"><span style="font-size:24px\; color:#252424">Microsoft Teams meeting
	</span>\n</div>\n<div style="margin-bottom:20px">\n<div style="margin-top:
	0px\; margin-bottom:0px\; font-weight:bold"><span style="font-size:14px\; 
	color:#252424">Join on your computer\, mobile app or room device</span>\n<
	/div>\n<a class="me-email-headline" href="https://teams.microsoft.com/l/me
	etup-join/19%3ameeting_ZjlmZjM5NWItZTM3YS00NGQwLWI1MDMtMTRiYzQzYWE0YjVh%40
	thread.v2/0?context=%7b%22Tid%22%3a%22ee5c5581-11a2-494e-a578-98942407cfdc
	%22%2c%22Oid%22%3a%22f14b6edb-5d94-4bb1-b4f2-513aeb46cdca%22%7d" target="_
	blank" rel="noreferrer noopener" style="font-size:14px\; font-family:'Sego
	e UI Semibold'\,'Segoe UI'\,'Helvetica Neue'\,Helvetica\,Arial\,sans-serif
	\; text-decoration:underline\; color:#6264a7">Click\n here to join the mee
	ting</a> </div>\n<div style="margin-bottom:20px\; margin-top:20px">\n<div 
	style="margin-bottom:4px"><span style="font-size:14px\; color:#252424">Mee
	ting ID:\n<span style="font-size:16px\; color:#252424">273 107 355 037</sp
	an> </span><br>\n<span style="font-size:14px\; color:#252424">Passcode: </
	span><span style="font-size:16px\; color:#252424">jPTevf\n</span>\n<div st
	yle="font-size:14px"><a class="me-email-link" target="_blank" href="https:
	//www.microsoft.com/en-us/microsoft-teams/download-app" rel="noreferrer no
	opener" style="font-size:14px\; text-decoration:underline\; color:#6264a7\
	; font-family:'Segoe UI'\,'Helvetica Neue'\,Helvetica\,Arial\,sans-serif">
	Download\n Teams</a> | <a class="me-email-link" target="_blank" href="http
	s://www.microsoft.com/microsoft-teams/join-a-meeting" rel="noreferrer noop
	ener" style="font-size:14px\; text-decoration:underline\; color:#6264a7\; 
	font-family:'Segoe UI'\,'Helvetica Neue'\,Helvetica\,Arial\,sans-serif">\n
	Join on the web</a></div>\n</div>\n</div>\n<div style="margin-bottom:24px\
	; margin-top:20px"><a class="me-email-link" target="_blank" href="https://
	aka.ms/JoinTeamsMeeting" rel="noreferrer noopener" style="font-size:14px\;
	 text-decoration:underline\; color:#6264a7\; font-family:'Segoe UI'\,'Helv
	etica Neue'\,Helvetica\,Arial\,sans-serif">Learn\n More</a> | <a class="me
	-email-link" target="_blank" href="https://teams.microsoft.com/meetingOpti
	ons/?organizerId=f14b6edb-5d94-4bb1-b4f2-513aeb46cdca&amp\;tenantId=ee5c55
	81-11a2-494e-a578-98942407cfdc&amp\;threadId=19_meeting_ZjlmZjM5NWItZTM3YS
	00NGQwLWI1MDMtMTRiYzQzYWE0YjVh@thread.v2&amp\;messageId=0&amp\;language=en
	-US" rel="noreferrer noopener" style="font-size:14px\; text-decoration:und
	erline\; color:#6264a7\; font-family:'Segoe UI'\,'Helvetica Neue'\,Helveti
	ca\,Arial\,sans-serif">\nMeeting options</a> </div>\n</div>\n<div style="f
	ont-size:14px\; margin-bottom:4px\; font-family:'Segoe UI'\,'Helvetica Neu
	e'\,Helvetica\,Arial\,sans-serif">\n</div>\n<div style="font-size:12px"></
	div>\n</div>\n<div style="width:100%"><span style="white-space:nowrap\; co
	lor:#5F5F5F\; opacity:.36">_______________________________________________
	_________________________________</span>\n</div>\n<div></div>\n</div>\n</b
	ody>\n</html>\n
X-MICROSOFT-CDO-BUSYSTATUS:BUSY
X-MICROSOFT-CDO-IMPORTANCE:1
X-MICROSOFT-DISALLOW-COUNTER:FALSE
X-MS-OLK-APPTLASTSEQUENCE:0
BEGIN:VALARM
TRIGGER:-PT15M
ACTION:DISPLAY
DESCRIPTION:Reminder
END:VALARM
END:VEVENT
END:VCALENDAR
